BEGIN:VCALENDAR
VERSION:2.0
PRODID:-//Movida de Altura//ES
BEGIN:VEVENT
UID:22858@movidadealtura.com
DTSTAMP:20260421T042303Z
DTSTART:20260425T190000
DTEND:20260425T200000
SUMMARY:Anime fusión: sinfonía de la aventura
DESCRIPTION:\\n\\nMás info: https://movidadealtura.com/musica/anime-fusion-sinfonia-de-la-aventura/
LOCATION:Calle 15 de Calacoto, Bosque Boulevard
END:VEVENT
END:VCALENDAR