BEGIN:VCALENDAR
VERSION:2.0
PRODID:-//Movida de Altura//ES
BEGIN:VEVENT
UID:22852@movidadealtura.com
DTSTAMP:20260421T002805Z
DTSTART:20260425T200000
DTEND:20260425T210000
SUMMARY:Burlesque: danza, música y humor
DESCRIPTION:\\n\\nMás info: https://movidadealtura.com/musicales/burlesque-danza-musica-y-humor/
LOCATION:Calle 21 de Calacoto #8509 (Parada Puma Katari)
END:VEVENT
END:VCALENDAR