BEGIN:VCALENDAR
VERSION:2.0
PRODID:-//Movida de Altura//ES
BEGIN:VEVENT
UID:22847@movidadealtura.com
DTSTAMP:20260420T075612Z
DTSTART:20260424T200000
DTEND:20260424T210000
SUMMARY:Sociedad San Pedro en el CCELP
DESCRIPTION:\\n\\nMás info: https://movidadealtura.com/musica/sociedad-san-pedro-en-el-ccelp/
LOCATION:Patio de la CCELP,  Av. Camacho 1484 entre Loayza y Bueno
END:VEVENT
END:VCALENDAR