BEGIN:VCALENDAR
VERSION:2.0
PRODID:-//Movida de Altura//ES
BEGIN:VEVENT
UID:22842@movidadealtura.com
DTSTAMP:20260420T075639Z
DTSTART:20260423T183000
DTEND:20260423T193000
SUMMARY:Trilogía El Padrino en la Cinemateca
DESCRIPTION:\\n\\nMás info: https://movidadealtura.com/cine/trilogia-el-padrino-en-la-cinemateca/
LOCATION:Calle Oscar Soria, esq. Rosendo Gutiérrez
END:VEVENT
END:VCALENDAR