BEGIN:VCALENDAR
VERSION:2.0
PRODID:-//Movida de Altura//ES
BEGIN:VEVENT
UID:22836@movidadealtura.com
DTSTAMP:20260420T075612Z
DTSTART:20260422T190000
DTEND:20260422T200000
SUMMARY:Nosotros los Bárbaros
DESCRIPTION:\\n\\nMás info: https://movidadealtura.com/cine/nosotros-los-barbaros/
LOCATION:Teatro Doña Albina, Av. Ecuador 2503 esq. Belisario Salinas
END:VEVENT
END:VCALENDAR