BEGIN:VCALENDAR
VERSION:2.0
PRODID:-//Movida de Altura//ES
BEGIN:VEVENT
UID:22833@movidadealtura.com
DTSTAMP:20260422T092630Z
DTSTART:20260422T193000
DTEND:20260422T203000
SUMMARY:La obra maestra de Mozart
DESCRIPTION:\\n\\nMás info: https://movidadealtura.com/musica/la-obra-maestra-de-mozart/
LOCATION:Entre calle Comercio y Junín, frente a la Plaza Murillo
END:VEVENT
END:VCALENDAR