BEGIN:VCALENDAR
VERSION:2.0
PRODID:-//Movida de Altura//ES
BEGIN:VEVENT
UID:22825@movidadealtura.com
DTSTAMP:20260420T044215Z
DTSTART:20260421T190000
DTEND:20260421T200000
SUMMARY:100 años de arte
DESCRIPTION:\\n\\nMás info: https://movidadealtura.com/exposiciones/100-anos-de-arte/
LOCATION:Calle Fernando Guachalla Nº 399 esq. 20 de Octubre, Sopocachi
END:VEVENT
END:VCALENDAR