BEGIN:VCALENDAR
VERSION:2.0
PRODID:-//Movida de Altura//ES
BEGIN:VEVENT
UID:22786@movidadealtura.com
DTSTAMP:20260422T003130Z
DTSTART:20260509T183000
DTEND:20260509T193000
SUMMARY:17o. Festival Nacional de Malambo
DESCRIPTION:\\n\\nMás info: https://movidadealtura.com/danza/17o-festival-nacional-de-malambo/
LOCATION:Av. 6 de agosto esq. Rosendo Gutiérrez
END:VEVENT
END:VCALENDAR