BEGIN:VCALENDAR
VERSION:2.0
PRODID:-//Movida de Altura//ES
BEGIN:VEVENT
UID:22771@movidadealtura.com
DTSTAMP:20260420T075730Z
DTSTART:20260424T193000
DTEND:20260424T203000
SUMMARY:Michael Jackson&#8217;s: We are the world
DESCRIPTION:\\n\\nMás info: https://movidadealtura.com/danza/michael-jacksons-we-are-the-world/
LOCATION:Av. 6 de agosto esq. Rosendo Gutiérrez
END:VEVENT
END:VCALENDAR