BEGIN:VCALENDAR
VERSION:2.0
PRODID:-//Movida de Altura//ES
BEGIN:VEVENT
UID:22766@movidadealtura.com
DTSTAMP:20260420T075650Z
DTSTART:20260424T180000
DTEND:20260424T190000
SUMMARY:Ruta 90: noche de clásicos
DESCRIPTION:\\n\\nMás info: https://movidadealtura.com/musica/ruta-90-noche-de-clasicos/
LOCATION:Salón Kandilejas, calle Constitución esq. Av. Perú 
END:VEVENT
END:VCALENDAR