BEGIN:VCALENDAR
VERSION:2.0
PRODID:-//Movida de Altura//ES
BEGIN:VEVENT
UID:22755@movidadealtura.com
DTSTAMP:20260420T075928Z
DTSTART:20260424T200000
DTEND:20260424T210000
SUMMARY:Andrés Herrera León presenta 30 &#8211; Un nuevo inicio
DESCRIPTION:\\n\\nMás info: https://movidadealtura.com/musica/andres-herrera-leon-presenta-30-un-nuevo-inicio/
LOCATION:Calle 21 de Calacoto #8509 (Parada Puma Katari)
END:VEVENT
END:VCALENDAR