BEGIN:VCALENDAR
VERSION:2.0
PRODID:-//Movida de Altura//ES
BEGIN:VEVENT
UID:22752@movidadealtura.com
DTSTAMP:20260420T075730Z
DTSTART:20260424T200000
DTEND:20260424T210000
SUMMARY:Especial Camilo Sesto en el Kúu Inti
DESCRIPTION:\\n\\nMás info: https://movidadealtura.com/musica/especial-camilo-sesto-en-el-kuu-inti/
LOCATION:Calle 15 de Calacoto, Bosque Boulevard
END:VEVENT
END:VCALENDAR