BEGIN:VCALENDAR
VERSION:2.0
PRODID:-//Movida de Altura//ES
BEGIN:VEVENT
UID:22749@movidadealtura.com
DTSTAMP:20260420T080412Z
DTSTART:20260424T190000
DTEND:20260424T200000
SUMMARY:Donnie Darko en el ciclo de cine escogido por el público en la Cinemateca
DESCRIPTION:\\n\\nMás info: https://movidadealtura.com/cine/donnie-darko-en-el-ciclo-de-cine-escogido-por-el-publico-en-la-cinemateca/
LOCATION:Calle Oscar Soria, esq. Rosendo Gutiérrez
END:VEVENT
END:VCALENDAR