BEGIN:VCALENDAR
VERSION:2.0
PRODID:-//Movida de Altura//ES
BEGIN:VEVENT
UID:22746@movidadealtura.com
DTSTAMP:20260420T075639Z
DTSTART:20260423T183000
DTEND:20260423T193000
SUMMARY:Concierto de Charango de René Alinas
DESCRIPTION:\\n\\nMás info: https://movidadealtura.com/musica/concierto-de-charango-de-rene-alinas/
LOCATION:Calle Ingavi Nro. 916 esquina Jenaro Sanjinés
END:VEVENT
END:VCALENDAR