BEGIN:VCALENDAR
VERSION:2.0
PRODID:-//Movida de Altura//ES
BEGIN:VEVENT
UID:22710@movidadealtura.com
DTSTAMP:20260424T140957Z
DTSTART:20260515T000000
DTEND:20260515T010000
SUMMARY:Convocatoria para la Larga Noche de Museos en Casa Goytia
DESCRIPTION:\\n\\nMás info: https://movidadealtura.com/convocatorias/convocatoria-para-la-larga-noche-de-museos-en-casa-goytia/
LOCATION:Plazuela Isabel La Católica, Av. Arce, 2519
END:VEVENT
END:VCALENDAR