BEGIN:VCALENDAR
VERSION:2.0
PRODID:-//Movida de Altura//ES
BEGIN:VEVENT
UID:22631@movidadealtura.com
DTSTAMP:20260420T075736Z
DTSTART:20260424T200000
DTEND:20260424T210000
SUMMARY:La muerte de Jesús Mamani y La mujer de anteojos
DESCRIPTION:\\n\\nMás info: https://movidadealtura.com/teatro/la-muerte-de-jesus-mamani-y-la-mujer-de-anteojos/
LOCATION:Aspiazu 426 entre 20 de octubre y Sánchez Lima
END:VEVENT
END:VCALENDAR