BEGIN:VCALENDAR
VERSION:2.0
PRODID:-//Movida de Altura//ES
BEGIN:VEVENT
UID:22527@movidadealtura.com
DTSTAMP:20260420T075807Z
DTSTART:20260423T183000
DTEND:20260423T193000
SUMMARY:Cortos Sardegna en la Dante Alighieri
DESCRIPTION:\\n\\nMás info: https://movidadealtura.com/cine/cortos-sardegna-en-la-dante-alighieri/
LOCATION:Av. 6 de Agosto Nº 2575 entre Pedro Salazar y Pinilla
END:VEVENT
END:VCALENDAR