BEGIN:VCALENDAR
VERSION:2.0
PRODID:-//Movida de Altura//ES
BEGIN:VEVENT
UID:22518@movidadealtura.com
DTSTAMP:20260422T092801Z
DTSTART:20260423T190000
DTEND:20260423T200000
SUMMARY:Juntos por la cumbia villera
DESCRIPTION:\\n\\nMás info: https://movidadealtura.com/musica/juntos-por-la-cumbia-villera/
LOCATION:Av. del Ejército 591
END:VEVENT
END:VCALENDAR