BEGIN:VCALENDAR
VERSION:2.0
PRODID:-//Movida de Altura//ES
BEGIN:VEVENT
UID:22509@movidadealtura.com
DTSTAMP:20260422T092149Z
DTSTART:20260423T190000
DTEND:20260423T200000
SUMMARY:Paella española: tributo al pop español
DESCRIPTION:\\n\\nMás info: https://movidadealtura.com/musica/paella-espanola-tributo-al-pop-espanol/
LOCATION:Calle 15 de Calacoto, Bosque Boulevard
END:VEVENT
END:VCALENDAR