BEGIN:VCALENDAR
VERSION:2.0
PRODID:-//Movida de Altura//ES
BEGIN:VEVENT
UID:22473@movidadealtura.com
DTSTAMP:20260420T134620Z
DTSTART:20260414T200000
DTEND:20260414T210000
SUMMARY:Il canto del violino, junto a la Embajada de Italia
DESCRIPTION:\\n\\nMás info: https://movidadealtura.com/musica/il-canto-del-violino-junto-a-la-embajada-de-italia/
LOCATION:Iglesia de la Exaltación, Obrajes calle 8
END:VEVENT
END:VCALENDAR