BEGIN:VCALENDAR
VERSION:2.0
PRODID:-//Movida de Altura//ES
BEGIN:VEVENT
UID:22134@movidadealtura.com
DTSTAMP:20260419T130304Z
DTSTART:20260417T200000
DTEND:20260417T210000
SUMMARY:Guitar Fest en el Nuna
DESCRIPTION:\\n\\nMás info: https://movidadealtura.com/musica/guitar-fest-en-el-nuna/
LOCATION:Calle 21 de Calacoto #8509 (Parada Puma Katari)
END:VEVENT
END:VCALENDAR