BEGIN:VCALENDAR
VERSION:2.0
PRODID:-//Movida de Altura//ES
BEGIN:VEVENT
UID:21866@movidadealtura.com
DTSTAMP:20260419T125910Z
DTSTART:20260409T160000
DTEND:20260409T170000
SUMMARY:Conferencia Patria potestad y Estado pactante
DESCRIPTION:\\n\\nMás info: https://movidadealtura.com/conferencia/conferencia-patria-potestad-y-estado-pactante/
LOCATION:Auditorio CIDES, Rosasani N°55 Obrajes (frente a Mi Teleférico Curva de Holguín) 
END:VEVENT
END:VCALENDAR