BEGIN:VCALENDAR
VERSION:2.0
PRODID:-//Movida de Altura//ES
BEGIN:VEVENT
UID:21235@movidadealtura.com
DTSTAMP:20260422T035243Z
DTSTART:20260331T173000
DTEND:20260331T183000
SUMMARY:El romanticismo vs el realismo: tertulia
DESCRIPTION:\\n\\nMás info: https://movidadealtura.com/encuentros/el-romanticismo-vs-el-realismo-tertulia/
LOCATION:C. Chichas Nº 1268 Z. Miraflores, cerca al Puente de Las Américas
END:VEVENT
END:VCALENDAR