BEGIN:VCALENDAR
VERSION:2.0
PRODID:-//Movida de Altura//ES
BEGIN:VEVENT
UID:21182@movidadealtura.com
DTSTAMP:20260423T085337Z
DTSTART:20260327T180000
DTEND:20260327T190000
SUMMARY:Tabasco en Coffee Time
DESCRIPTION:\\n\\nMás info: https://movidadealtura.com/musica/tabasco-en-vivo-2/
LOCATION:Calle Santa Cruz, entre Murillo y Linares #242 - Hostal Blanquita
END:VEVENT
END:VCALENDAR