BEGIN:VCALENDAR
VERSION:2.0
PRODID:-//Movida de Altura//ES
BEGIN:VEVENT
UID:21171@movidadealtura.com
DTSTAMP:20260422T040617Z
DTSTART:20260326T180000
DTEND:20260326T190000
SUMMARY:Humanos serie B: tertulia literaria
DESCRIPTION:\\n\\nMás info: https://movidadealtura.com/encuentros/humanos-serie-b-tertulia-literaria/
LOCATION:C. Chichas Nº 1268 Z. Miraflores, cerca al Puente de Las Américas
END:VEVENT
END:VCALENDAR