BEGIN:VCALENDAR
VERSION:2.0
PRODID:-//Movida de Altura//ES
BEGIN:VEVENT
UID:19576@movidadealtura.com
DTSTAMP:20260420T044356Z
DTSTART:20260305T190000
DTEND:20260305T200000
SUMMARY:Nueva exposición de Kirah
DESCRIPTION:\\n\\nMás info: https://movidadealtura.com/exposiciones/nueva-exposicion-de-kirah/
LOCATION:Av. Los Sauces 189 esq. Arequipa, La Florida
END:VEVENT
END:VCALENDAR