BEGIN:VCALENDAR
VERSION:2.0
PRODID:-//Movida de Altura//ES
BEGIN:VEVENT
UID:19480@movidadealtura.com
DTSTAMP:20260422T035115Z
DTSTART:20260307T180000
DTEND:20260307T190000
SUMMARY:Invocando a Jaime Sáenz
DESCRIPTION:\\n\\nMás info: https://movidadealtura.com/encuentros/invocando-a-jaime-saenz/
LOCATION:
END:VEVENT
END:VCALENDAR