BEGIN:VCALENDAR
VERSION:2.0
PRODID:-//Movida de Altura//ES
BEGIN:VEVENT
UID:18254@movidadealtura.com
DTSTAMP:20260424T082120Z
DTSTART:20260205T200000
DTEND:20260205T210000
SUMMARY:Chelo Navia &#8211; Compadres 2026
DESCRIPTION:\\n\\nMás info: https://movidadealtura.com/musica/chelo-navia-compadres-2026/
LOCATION:Calle Colombia esq. Cañada Strongest, San Pedro
END:VEVENT
END:VCALENDAR