BEGIN:VCALENDAR
VERSION:2.0
PRODID:-//Movida de Altura//ES
BEGIN:VEVENT
UID:18112@movidadealtura.com
DTSTAMP:20260423T085441Z
DTSTART:20260202T200000
DTEND:20260202T210000
SUMMARY:La lengua de Amaru: hija
DESCRIPTION:\\n\\nMás info: https://movidadealtura.com/cine/la-lengua-de-amaru-hija/
LOCATION:Calle México 1783
END:VEVENT
END:VCALENDAR